BEGIN:VCALENDAR
VERSION:2.0
PRODID:-//KG Prinzengilde Eschweiler-Bergrath - ECPv6.2.6//NONSGML v1.0//EN
CALSCALE:GREGORIAN
METHOD:PUBLISH
X-ORIGINAL-URL:http://prinzengilde.de
X-WR-CALDESC:Veranstaltungen für KG Prinzengilde Eschweiler-Bergrath
REFRESH-INTERVAL;VALUE=DURATION:PT1H
X-Robots-Tag:noindex
X-PUBLISHED-TTL:PT1H
BEGIN:VTIMEZONE
TZID:Europe/Berlin
BEGIN:DAYLIGHT
TZOFFSETFROM:+0100
TZOFFSETTO:+0200
TZNAME:CEST
DTSTART:20260329T010000
END:DAYLIGHT
BEGIN:STANDARD
TZOFFSETFROM:+0200
TZOFFSETTO:+0100
TZNAME:CET
DTSTART:20261025T010000
END:STANDARD
END:VTIMEZONE
BEGIN:VEVENT
DTSTART;TZID=Europe/Berlin:20260205T150000
DTEND;TZID=Europe/Berlin:20260205T180000
DTSTAMP:20260424T191016
CREATED:20240819T201242Z
LAST-MODIFIED:20260203T103056Z
UID:2161-1770303600-1770314400@prinzengilde.de
SUMMARY:Karnevalistischer Seniorennachmittag
DESCRIPTION:
URL:http://prinzengilde.de/event/seniorennachmittag-2/
LOCATION:Pfarrsaal St. Antonius Bergrath\, Pfarrer-Kleinermanns-Str.\, Eschweiler\, 52249
END:VEVENT
END:VCALENDAR