BEGIN:VCALENDAR
VERSION:2.0
PRODID:-//KG Prinzengilde Eschweiler-Bergrath - ECPv6.2.6//NONSGML v1.0//EN
CALSCALE:GREGORIAN
METHOD:PUBLISH
X-WR-CALNAME:KG Prinzengilde Eschweiler-Bergrath
X-ORIGINAL-URL:http://prinzengilde.de
X-WR-CALDESC:Veranstaltungen für KG Prinzengilde Eschweiler-Bergrath
REFRESH-INTERVAL;VALUE=DURATION:PT1H
X-Robots-Tag:noindex
X-PUBLISHED-TTL:PT1H
BEGIN:VTIMEZONE
TZID:Europe/Berlin
BEGIN:DAYLIGHT
TZOFFSETFROM:+0100
TZOFFSETTO:+0200
TZNAME:CEST
DTSTART:20260329T010000
END:DAYLIGHT
BEGIN:STANDARD
TZOFFSETFROM:+0200
TZOFFSETTO:+0100
TZNAME:CET
DTSTART:20261025T010000
END:STANDARD
END:VTIMEZONE
BEGIN:VEVENT
DTSTART;TZID=Europe/Berlin:20260212T100000
DTEND;TZID=Europe/Berlin:20260212T170000
DTSTAMP:20260424T190515
CREATED:20250421T092627Z
LAST-MODIFIED:20250421T092627Z
UID:2539-1770890400-1770915600@prinzengilde.de
SUMMARY:Weiberfastnacht mit Treck durch das Dorf
DESCRIPTION:
URL:http://prinzengilde.de/event/weiberfastnacht-mit-treck-durch-das-dorf/
END:VEVENT
END:VCALENDAR