BEGIN:VCALENDAR
VERSION:2.0
PRODID:-//KG Prinzengilde Eschweiler-Bergrath - ECPv6.2.6//NONSGML v1.0//EN
CALSCALE:GREGORIAN
METHOD:PUBLISH
X-WR-CALNAME:KG Prinzengilde Eschweiler-Bergrath
X-ORIGINAL-URL:http://prinzengilde.de
X-WR-CALDESC:Veranstaltungen für KG Prinzengilde Eschweiler-Bergrath
REFRESH-INTERVAL;VALUE=DURATION:PT1H
X-Robots-Tag:noindex
X-PUBLISHED-TTL:PT1H
BEGIN:VTIMEZONE
TZID:Europe/Berlin
BEGIN:DAYLIGHT
TZOFFSETFROM:+0100
TZOFFSETTO:+0200
TZNAME:CEST
DTSTART:20260329T010000
END:DAYLIGHT
BEGIN:STANDARD
TZOFFSETFROM:+0200
TZOFFSETTO:+0100
TZNAME:CET
DTSTART:20261025T010000
END:STANDARD
END:VTIMEZONE
BEGIN:VEVENT
DTSTART;TZID=Europe/Berlin:20260214T094500
DTEND;TZID=Europe/Berlin:20260214T094500
DTSTAMP:20260424T190406
CREATED:20251106T123438Z
LAST-MODIFIED:20260213T230004Z
UID:2631-1771062300-1771062300@prinzengilde.de
SUMMARY:Rathausstürmung
DESCRIPTION:
URL:http://prinzengilde.de/event/rathausstuermung-2/
LOCATION:Johanna-Neumann-Str.\, Eschweiler\, Johanna-Neumann-Str.\, Eschweiler\, 52249
END:VEVENT
END:VCALENDAR