BEGIN:VCALENDAR
VERSION:2.0
PRODID:-//KG Prinzengilde Eschweiler-Bergrath - ECPv6.2.6//NONSGML v1.0//EN
CALSCALE:GREGORIAN
METHOD:PUBLISH
X-ORIGINAL-URL:http://prinzengilde.de
X-WR-CALDESC:Veranstaltungen für KG Prinzengilde Eschweiler-Bergrath
REFRESH-INTERVAL;VALUE=DURATION:PT1H
X-Robots-Tag:noindex
X-PUBLISHED-TTL:PT1H
BEGIN:VTIMEZONE
TZID:Europe/Berlin
BEGIN:DAYLIGHT
TZOFFSETFROM:+0100
TZOFFSETTO:+0200
TZNAME:CEST
DTSTART:20260329T010000
END:DAYLIGHT
BEGIN:STANDARD
TZOFFSETFROM:+0200
TZOFFSETTO:+0100
TZNAME:CET
DTSTART:20261025T010000
END:STANDARD
END:VTIMEZONE
BEGIN:VEVENT
DTSTART;TZID=Europe/Berlin:20260227T190000
DTEND;TZID=Europe/Berlin:20260227T190000
DTSTAMP:20260424T192305
CREATED:20250329T081125Z
LAST-MODIFIED:20250329T081125Z
UID:2509-1772218800-1772218800@prinzengilde.de
SUMMARY:Fischessen der KG Prinzengilde
DESCRIPTION:
URL:http://prinzengilde.de/event/fischessen-der-kg-prinzengilde/
LOCATION:Haus Flatten\, Delio-Arena\, Röthgener Str. 40\, Eschweiler\, 52249
END:VEVENT
END:VCALENDAR