BEGIN:VCALENDAR
VERSION:2.0
PRODID:-//KG Prinzengilde Eschweiler-Bergrath - ECPv6.2.6//NONSGML v1.0//EN
CALSCALE:GREGORIAN
METHOD:PUBLISH
X-ORIGINAL-URL:https://prinzengilde.de
X-WR-CALDESC:Veranstaltungen für KG Prinzengilde Eschweiler-Bergrath
REFRESH-INTERVAL;VALUE=DURATION:PT1H
X-Robots-Tag:noindex
X-PUBLISHED-TTL:PT1H
BEGIN:VTIMEZONE
TZID:Europe/Berlin
BEGIN:DAYLIGHT
TZOFFSETFROM:+0100
TZOFFSETTO:+0200
TZNAME:CEST
DTSTART:20270328T010000
END:DAYLIGHT
BEGIN:STANDARD
TZOFFSETFROM:+0200
TZOFFSETTO:+0100
TZNAME:CET
DTSTART:20271031T010000
END:STANDARD
END:VTIMEZONE
BEGIN:VEVENT
DTSTART;TZID=Europe/Berlin:20270107T150000
DTEND;TZID=Europe/Berlin:20270107T150000
DTSTAMP:20260425T015328
CREATED:20260309T221746Z
LAST-MODIFIED:20260309T221753Z
UID:2845-1799334000-1799334000@prinzengilde.de
SUMMARY:Jede Jeck soll fiere künne
DESCRIPTION:Weitere Infos folgen…
URL:https://prinzengilde.de/event/jede-jeck-soll-fiere-kuenne-2/
LOCATION:Dom2000 Nothberg\, In den Benden 14\, Eschweiler\, 52249
END:VEVENT
END:VCALENDAR