BEGIN:VCALENDAR
VERSION:2.0
PRODID:-//KG Prinzengilde Eschweiler-Bergrath - ECPv6.2.6//NONSGML v1.0//EN
CALSCALE:GREGORIAN
METHOD:PUBLISH
X-ORIGINAL-URL:https://prinzengilde.de
X-WR-CALDESC:Veranstaltungen für KG Prinzengilde Eschweiler-Bergrath
REFRESH-INTERVAL;VALUE=DURATION:PT1H
X-Robots-Tag:noindex
X-PUBLISHED-TTL:PT1H
BEGIN:VTIMEZONE
TZID:Europe/Berlin
BEGIN:DAYLIGHT
TZOFFSETFROM:+0100
TZOFFSETTO:+0200
TZNAME:CEST
DTSTART:20260329T010000
END:DAYLIGHT
BEGIN:STANDARD
TZOFFSETFROM:+0200
TZOFFSETTO:+0100
TZNAME:CET
DTSTART:20261025T010000
END:STANDARD
END:VTIMEZONE
BEGIN:VEVENT
DTSTART;TZID=Europe/Berlin:20260124T141100
DTEND;TZID=Europe/Berlin:20260124T141100
DTSTAMP:20260424T152401
CREATED:20240819T201035Z
LAST-MODIFIED:20250919T091507Z
UID:2157-1769263860-1769263860@prinzengilde.de
SUMMARY:Kindersitzung
DESCRIPTION:
URL:https://prinzengilde.de/event/kindersitzung/
LOCATION:Dom2000 Nothberg\, In den Benden 14\, Eschweiler\, 52249
END:VEVENT
BEGIN:VEVENT
DTSTART;TZID=Europe/Berlin:20260125T111100
DTEND;TZID=Europe/Berlin:20260125T111100
DTSTAMP:20260424T152401
CREATED:20240819T201147Z
LAST-MODIFIED:20250919T091643Z
UID:2159-1769339460-1769339460@prinzengilde.de
SUMMARY:Regimentsfest
DESCRIPTION:
URL:https://prinzengilde.de/event/regimentsfest/
LOCATION:Dom2000 Nothberg\, In den Benden 14\, Eschweiler\, 52249
END:VEVENT
END:VCALENDAR